BEGIN:VCALENDAR
PRODID:NingEventWidget-v1
VERSION:2.0
METHOD:PUBLISH
BEGIN:VTIMEZONE
TZID:Europe/Gibraltar
X-LIC-LOCATION:Europe/Gibraltar
BEGIN:DAYLIGHT
TZOFFSETFROM:+0100
TZOFFSETTO:+0200
TZNAME:CEST
DTSTART:19700329T020000
RRULE:FREQ=YEARLY;BYMONTH=3;BYDAY=-1SU
END:DAYLIGHT
BEGIN:STANDARD
TZOFFSETFROM:+0200
TZOFFSETTO:+0100
TZNAME:CET
DTSTART:19701025T030000
RRULE:FREQ=YEARLY;BYMONTH=10;BYDAY=-1SU
END:STANDARD
END:VTIMEZONE
BEGIN:VEVENT
UID:4370262:Event:573678
DTSTAMP:20260422T161729Z
SUMMARY:Closing Season Event 2026.
DESCRIPTION:\r\nIf you didnt make it on our last camping trip this wil
 l be your last chance as we will be closing the season with a three ni
 ghts camping trip to enjoy together and make plans for our next season
 .\r\nThis event is only for Club Members.\r\n1st day;\r\nmeeting at th
 e petrol station before the toll as usual for breakfast at 9 am. Conti
 nue on the highway to Bermejos were we will stop for lunch. Passing th
 rough El charco and El Caminito del Rey and arriving at Camping Ardale
 s.\r\n2nd day;\r\nRoute off-road to Yunque and stay at Camping Pueblo 
 Blanco, los Linares.\r\n3rd day;\r\nroute off-road to El Bosque and st
 ay at Camping la Torecilla.\r\n4th day;\r\nroad trip through the mount
 ains with a pitstop for lunch at Venta la Solana. Finishing with a sho
 rt track and stop for tea before heading back home.\r\nWe hope to spen
 d a really good four days together with friends and families.\n\nFor m
 ore information visit https://www.marocatlasgib4x4.com/events/closing-
 season-event-2026
DTSTART;TZID=Europe/Gibraltar:20260625T210000
DTEND;TZID=Europe/Gibraltar:20260628T200000
CATEGORIES:camping
LOCATION:Spain
WEBSITE:
URL:
CONTACT:54031219
ORGANIZER;CN="Marocatlasgib4x4 Club":https://www.marocatlasgib4x4.com/
 profile/Marocatlasgib4x4
ATTACH;FMTTYPE="image/jpeg":https://storage.ning.com/topology/rest/1.0
 /file/get/31135311699?profile=original
ATTENDEE;ROLE=REQ-PARTICIPANT;PARTSTAT=ACCEPTED;RSVP=TRUE;CN="Alfred B
 alban":https://www.marocatlasgib4x4.com/profile/AlfredBalban
ATTENDEE;ROLE=REQ-PARTICIPANT;PARTSTAT=ACCEPTED;RSVP=TRUE;CN="Marocatl
 asgib4x4 Club":https://www.marocatlasgib4x4.com/profile/Marocatlasgib4
 x4
END:VEVENT
END:VCALENDAR
