BEGIN:VCALENDAR
PRODID:NingEventWidget-v1
VERSION:2.0
METHOD:PUBLISH
BEGIN:VTIMEZONE
TZID:Europe/Gibraltar
X-LIC-LOCATION:Europe/Gibraltar
BEGIN:DAYLIGHT
TZOFFSETFROM:+0100
TZOFFSETTO:+0200
TZNAME:CEST
DTSTART:19700329T020000
RRULE:FREQ=YEARLY;BYMONTH=3;BYDAY=-1SU
END:DAYLIGHT
BEGIN:STANDARD
TZOFFSETFROM:+0200
TZOFFSETTO:+0100
TZNAME:CET
DTSTART:19701025T030000
RRULE:FREQ=YEARLY;BYMONTH=10;BYDAY=-1SU
END:STANDARD
END:VTIMEZONE
BEGIN:VEVENT
UID:4370262:Event:377481
DTSTAMP:20260421T042440Z
SUMMARY:Clubs BBQ 2017!
DESCRIPTION:Club's poll was closed with a majority votes for the 22nd 
 of July so hope most of you guys can make to our 1st bbq at the club h
 ouse. Please tick attending so we can have numbers asap to buy the foo
 d, thanks all for one more year of support!\n\nFor more information vi
 sit https://www.marocatlasgib4x4.com/events/clubs-bbq-2017
DTSTART;TZID=Europe/Gibraltar:20170722T200000
DTEND;TZID=Europe/Gibraltar:20170723T010000
CATEGORIES:socialising
LOCATION:https://www.google.com/maps/place/MarocAtlas+Gibraltar+4x4+Cl
 ub/@36.1186188,-5.3473676,17z/data=!3m1!4b1!4m5!3m4!1s0x0:0xbce58dd62e
 53e02f!8m2!3d36.1186188!4d-5.3451789?hl=en-US
WEBSITE:
URL:
CONTACT:00350 20066530
ORGANIZER;CN="Marocatlasgib4x4 Club":https://www.marocatlasgib4x4.com/
 profile/Marocatlasgib4x4
ATTACH;FMTTYPE="image/jpeg":http://storage.ning.com/topology/rest/1.0/
 file/get/3055073261?profile=original
ATTENDEE;ROLE=REQ-PARTICIPANT;PARTSTAT=ACCEPTED;RSVP=TRUE;CN="Paul FOX
 ":https://www.marocatlasgib4x4.com/profile/PaulFOX
ATTENDEE;ROLE=REQ-PARTICIPANT;PARTSTAT=ACCEPTED;RSVP=TRUE;CN="Alfred B
 alban":https://www.marocatlasgib4x4.com/profile/AlfredBalban
ATTENDEE;ROLE=REQ-PARTICIPANT;PARTSTAT=ACCEPTED;RSVP=TRUE;CN="Marocatl
 asgib4x4 Club":https://www.marocatlasgib4x4.com/profile/Marocatlasgib4
 x4
END:VEVENT
END:VCALENDAR
