BEGIN:VCALENDAR
PRODID:NingEventWidget-v1
VERSION:2.0
METHOD:PUBLISH
BEGIN:VTIMEZONE
TZID:Europe/Gibraltar
X-LIC-LOCATION:Europe/Gibraltar
BEGIN:DAYLIGHT
TZOFFSETFROM:+0100
TZOFFSETTO:+0200
TZNAME:CEST
DTSTART:19700329T020000
RRULE:FREQ=YEARLY;BYMONTH=3;BYDAY=-1SU
END:DAYLIGHT
BEGIN:STANDARD
TZOFFSETFROM:+0200
TZOFFSETTO:+0100
TZNAME:CET
DTSTART:19701025T030000
RRULE:FREQ=YEARLY;BYMONTH=10;BYDAY=-1SU
END:STANDARD
END:VTIMEZONE
BEGIN:VEVENT
UID:4370262:Event:573550
DTSTAMP:20260422T160154Z
SUMMARY:Overlanding Event, Friele - Gorafe - Casorla.
DESCRIPTION:Weekend event enjoying three camp nights and travelling th
 rough national parks with spectacular views.\r\nOne not to be missed.\
 r\n\n\nFor more information visit https://www.marocatlasgib4x4.com/eve
 nts/overlanding-event-gorafe-casorla
DTSTART;TZID=Europe/Gibraltar:20260514T090000
DTEND;TZID=Europe/Gibraltar:20260517T190000
CATEGORIES:campings
LOCATION:Spain
WEBSITE:
URL:
CONTACT:54031219
ORGANIZER;CN="Marocatlasgib4x4 Club":https://www.marocatlasgib4x4.com/
 profile/Marocatlasgib4x4
ATTACH;FMTTYPE="image/jpeg":https://storage.ning.com/topology/rest/1.0
 /file/get/31135302866?profile=original
ATTENDEE;ROLE=REQ-PARTICIPANT;PARTSTAT=ACCEPTED;RSVP=TRUE;CN="Alfred B
 alban":https://www.marocatlasgib4x4.com/profile/AlfredBalban
ATTENDEE;ROLE=REQ-PARTICIPANT;PARTSTAT=ACCEPTED;RSVP=TRUE;CN="Marocatl
 asgib4x4 Club":https://www.marocatlasgib4x4.com/profile/Marocatlasgib4
 x4
END:VEVENT
END:VCALENDAR
